BEGIN:VCALENDAR
VERSION:2.0
CALSCALE:GREGORIAN
PRODID:-//MyApp//Calendar 1.0//EN
BEGIN:VEVENT
METHOD:PUBLISH
UID:32145@regionalniportaly.cz
DTSTAMP:20260422T124229Z
DTSTART;VALUE=DATE:20230422
DTEND;VALUE=DATE:20230423
SUMMARY:Retro Dance Party
DESCRIPTION:80s - 90s RETRO DANCE PÁRTY je šesti hodinový disco ples těch největších hitů osmdesátých a&nbsp\;devadesátých let s přesahem na léta sedmdesátá až po současnost. Zkrátka od Abby až po Dua Lipu.Přijďte klidně v&nbsp\;džínech\, ale nejlépe retro! Nejlepší retro kostýmy budou odměněny!Doba je zlá\, tak tancujme\, dokud můžeme!
LOCATION:Hořovice
END:VEVENT
END:VCALENDAR