BEGIN:VCALENDAR
VERSION:2.0
CALSCALE:GREGORIAN
PRODID:-//MyApp//Calendar 1.0//EN
BEGIN:VEVENT
METHOD:PUBLISH
UID:36713@regionalniportaly.cz
DTSTAMP:20260422T154906Z
DTSTART;VALUE=DATE:20231124
DTEND;VALUE=DATE:20231125
SUMMARY:Jedlíci na cestách
DESCRIPTION:Už jste viděli travel gastro pořad Jedlíci na cestách cestovatelů Jardy Bouzka a Tomáše Šapovalova? Za vznikem tohoto projektu stálo spojení dvou vášní – cestování a jídla. Jeho cílem je představit typická jídla\, která byste v&nbsp\;jednotlivých zemích rozhodně neměli vynechat?&nbsp\;V&nbsp\;první sezóně kluci vyrazili do Maďarska\, Německa\, Polska a Holandska. Jejich společné povídání nás zavede nejen do restaurací a bister\, ale také do zákulisí natáčení. Jaká jsou úskalí vzniku pořadu\, který je dostal až do celoplošného vysílání televize? Jaká jídla je nadchla a jaká naopak zklamala? Uvidíte spoustu nepovedených záběrů a historek\, které vás zaručeně pobaví.&nbsp\; &nbsp\; &nbsp\;Navíc na vás čeká speciální currywurstová výzva!
LOCATION:Dolní Hradiště
END:VEVENT
END:VCALENDAR