BEGIN:VCALENDAR
VERSION:2.0
CALSCALE:GREGORIAN
PRODID:-//MyApp//Calendar 1.0//EN
BEGIN:VEVENT
METHOD:PUBLISH
UID:37961@regionalniportaly.cz
DTSTAMP:20260422T142311Z
DTSTART;VALUE=DATE:20240517
DTEND;VALUE=DATE:20240518
SUMMARY:Koncert Filmové Hudby | Hořovice
DESCRIPTION:Populární symfonický orchestr Dalibora Havlíčka&nbsp\;přináší&nbsp\;velkolepý koncert filmové hudby\, který představí v Hořovicích!Diváci v Hořovicích se mohou&nbsp\;těšit na&nbsp\;skladby z filmů&nbsp\;Star Wars\, Pán Prstenů\, Hry o Trůny\, Harry Potter\, Piráti z&nbsp\;Karibiku&nbsp\;a další známé melodie stříbrného plátna.Na své si přijdou také milovníci prvního a&nbsp\;patrně i&nbsp\;nejznámějšího českého filmového muzikálu z&nbsp\;roku 1964&nbsp\;Starci na chmelu.Koncert bude bohatý na fantastickou filmovou hudbu od světově známých hudebních skladatelů\, jakými jsou např.&nbsp\;John Williams\,&nbsp\;Hans Zimmer\,&nbsp\;Howard Shore&nbsp\;nebo&nbsp\;James Horner.&nbsp\;
LOCATION:Hořovice
END:VEVENT
END:VCALENDAR