BEGIN:VCALENDAR
VERSION:2.0
CALSCALE:GREGORIAN
PRODID:-//MyApp//Calendar 1.0//EN
BEGIN:VEVENT
METHOD:PUBLISH
UID:44285@regionalniportaly.cz
DTSTAMP:20260424T101443Z
DTSTART;VALUE=DATE:20241210
DTEND;VALUE=DATE:20241211
SUMMARY:Čtyři dohody
DESCRIPTION:
LOCATION:Hořovice
END:VEVENT
END:VCALENDAR