BEGIN:VCALENDAR
VERSION:2.0
CALSCALE:GREGORIAN
PRODID:-//MyApp//Calendar 1.0//EN
BEGIN:VEVENT
METHOD:PUBLISH
UID:57860@regionalniportaly.cz
DTSTAMP:20260422T220120Z
DTSTART;VALUE=DATE:20251210
DTEND;VALUE=DATE:20251211
SUMMARY:Sing Sing
DESCRIPTION:Pět výjimečných hlasů\, pět charismatických osobností\, jeden nezapomenutelný hudební večer!Kamila Nývltová\, Tomáš Trapl\, Michaela Nosková a Peter Pecha&nbsp\;– to je zbrusu nové pěvecké seskupení&nbsp\;SING SING QUINTET\, které vám přináší jedinečný vánoční koncert plný emocí\, barevných hlasových kombinací a písní\, které vás chytí za srdce.V originálním hudebním podání zazní slavné světové melodie\, muzikálové perly i nestárnoucí české hity. Nechte se unést jedinečnými úpravami skladeb od Karla Svobody\, Zdeňka Rytíře a dalších hudebních velikánů. V režii tohoto hudebního svátku si užijete nejen umělecký zážitek\, ale i příjemnou atmosféru\, chvíle dojetí a radosti – a možná si i sami zazpíváte!SING SING QUINTET&nbsp\;není jen koncert. Je to oslava hudby\, hlasu a vánočního kouzla.
LOCATION:Kralovice
END:VEVENT
END:VCALENDAR