BEGIN:VCALENDAR
VERSION:2.0
CALSCALE:GREGORIAN
PRODID:-//MyApp//Calendar 1.0//EN
BEGIN:VEVENT
METHOD:PUBLISH
UID:58400@regionalniportaly.cz
DTSTAMP:20260422T155008Z
DTSTART;VALUE=DATE:20251108
DTEND;VALUE=DATE:20251109
SUMMARY:Morčata na útěku\, Destroy! | Hořovice
DESCRIPTION:Do klubu Labe v Hořovicích dorazí brněnská komediální kapela Morčata na útěku\, kde v rámci jedinečné show představí spousty coverů známých hitů se svými osobitými texty\, ale i vlastní fláky jako aktuální vál Šalina!Večer otevře kapela DESTROY! a o závěrečnou afterparty se postará DJ Tomáš Mašek.
LOCATION:Hořovice
END:VEVENT
END:VCALENDAR