BEGIN:VCALENDAR
VERSION:2.0
CALSCALE:GREGORIAN
PRODID:-//MyApp//Calendar 1.0//EN
BEGIN:VEVENT
METHOD:PUBLISH
UID:61750@regionalniportaly.cz
DTSTAMP:20260420T064759Z
DTSTART;VALUE=DATE:20260328
DTEND;VALUE=DATE:20260329
SUMMARY:Punks for dogs
DESCRIPTION:Multižánrový minifestival na podporu organizace Pomocné tlapky o.p.s.\, která zdarma poskytuje asistenční psy hendikepovaným.
LOCATION:Praskolesy
END:VEVENT
END:VCALENDAR