BEGIN:VCALENDAR
VERSION:2.0
CALSCALE:GREGORIAN
PRODID:-//MyApp//Calendar 1.0//EN
BEGIN:VEVENT
METHOD:PUBLISH
UID:62427@regionalniportaly.cz
DTSTAMP:20260424T103656Z
DTSTART;VALUE=DATE:20260925
DTEND;VALUE=DATE:20260927
SUMMARY:Amateur Jump Tour Grand Finále - Hořovice
DESCRIPTION:Rádi bychom vás srdečně pozvali na jedinečnou událost roku - Grand finále Amateur Jump Tour 2026\, které se bude konat v malebném prostředí Hořovic ve dnech 25. – 27. září. Tato prestižní akce slibuje nejen napínavé soutěže v parkurovém skákání\, ale také nezapomenutelný zážitek pro všechny milovníky jezdeckého sportu.Během tří dnů se můžete těšit na vrcholné výkony jezdců\, kteří se utkají o titul šampiona v rámci seriálu Amateur Jump Tour.Tato událost je ideální příležitostí k navázání nových kontaktů a sdílení zkušeností s ostatními nadšenci jezdeckého sportu.Nezmeškejte šanci být součástí této výjimečné akce!&nbsp\;&nbsp\;
LOCATION:Hořovice
END:VEVENT
END:VCALENDAR