BEGIN:VCALENDAR
VERSION:2.0
CALSCALE:GREGORIAN
PRODID:-//MyApp//Calendar 1.0//EN
BEGIN:VEVENT
METHOD:PUBLISH
UID:62430@regionalniportaly.cz
DTSTAMP:20260424T104801Z
DTSTART;VALUE=DATE:20260605
DTEND;VALUE=DATE:20260607
SUMMARY:Amateur & Profi Jump Tour - Hořovice
DESCRIPTION:S potěšením Vás zveme na jedinečnou událost v jezdeckém kalendáři roku 2026 – Amateur Jump Tour a Profi Jump Tour\, která se bude konat v malebném prostředí Hořovic ve dnech 5. - 7. června. Tato prestižní soutěž v parkurovém skákání přivítá jezdce všech úrovní a slibuje nezapomenutelné zážitky pro všechny milovníky jezdeckého sportu.Těšit se můžete na napínavé soutěže\, kde se představí talentovaní amatéři i profesionálové\, kteří předvedou své dovednosti na překážkách různé obtížnosti až do stupně ST**Nenechte si ujít příležitost být součástí této výjimečné akce\, která nabízí nejen soutěžní vzrušení\, ale také skvělou příležitost k navázání nových kontaktů v jezdecké komunitě.&nbsp\;
LOCATION:Hořovice
END:VEVENT
END:VCALENDAR