BEGIN:VCALENDAR
VERSION:2.0
CALSCALE:GREGORIAN
PRODID:-//MyApp//Calendar 1.0//EN
BEGIN:VEVENT
METHOD:PUBLISH
UID:62836@regionalniportaly.cz
DTSTAMP:20260422T140140Z
DTSTART;VALUE=DATE:20260301
DTEND;VALUE=DATE:20260302
SUMMARY:Sny skřítka Smítka - NOVÝ TERMÍN !
DESCRIPTION:!! POZOR !! ZMĚNA TERMÍNU !!Vstupenky zůstávají v platnosti !\nPan Snář každý večer dětem rozdává sny podle toho\, jak byly dnes hodné. Jediným pomocníkem jsou mu pohotové Hodiny. Jednoho dne Snáře s Hodinami překvapí malý skřítek Smítko.\nŘíše snů Smítkovi nabízí ohromná dobrodružství a hned se ujme vlády. Není třeba napovídat\, že mu to moc nejde a řadu snů pěkně zamotá. A což teprve\, když se seznámí se zlobivým Řimbuchem…\nDěti se snadno sžijí s hlavní postavou příběhu – zlobivým Smítkem\, který není zlý\, jen se neumí správně prosadit a napáchá proto řadu rošťáren. Když se ale dostane do nebezpečí a musí se správně rozhodnout\, neváhá a riskuje jen proto\, aby zachránil kamaráda. To se mu podaří a všichni skřítka obdivují.\nZe zlobílka Smítka se stane Snítko\, neboli odborník na snění\, a všechny děti budou spokojené\, protože od něj dostanou jen ty nejkouzelnější sny.\nPro děti od 3 do 10 let s hudbou a písničkami.
LOCATION:Hořovice
END:VEVENT
END:VCALENDAR