BEGIN:VCALENDAR
VERSION:2.0
CALSCALE:GREGORIAN
PRODID:-//MyApp//Calendar 1.0//EN
BEGIN:VEVENT
METHOD:PUBLISH
UID:62837@regionalniportaly.cz
DTSTAMP:20260422T140129Z
DTSTART;VALUE=DATE:20260304
DTEND;VALUE=DATE:20260305
SUMMARY:Román pro ženy
DESCRIPTION:Divadelní adaptace knižního bestselleru nejčtenějšího českého spisovatele Michala Viewegha. Hlavní hrdinka Laura je jedináček žijící se svojí matkou. Jednoho dne přivede domů muže\, představí ho své matce\, ovšem její matka tohoto muže už dávno zná. Nastává spousta vtipných a zajímavých dialogů o lidském osudu. Komedie nahlížející na každodenní trable milostných příběhů byla i úspěšně zfilmována.Délka představení: 2 hodiny 20 minut včetně přestávky.Premiéra: 5.2.2024 v Divadle Na Fidlovačce\nObsazení:\nLaura: Anna RandárováOliver: Martin KrausJana: Ivana JirešováIngrid\, Bludička a další postavy: Jessica BechyňováŽemla\, Číšník a další postavy: Gustav Řezníček / Bronislav KotišRickie\, Jeff\, Robert\, On a další postavy: Jakub Vašek\nROMÁN PRO ŽENY\nAutor knižní předlohy: Michal VieweghDivadelní adaptace a režie: Jakub VašekHudba: Peter Gábor ml.Kostýmy: Tereza PobudováScénografie: Václav Kubíček
LOCATION:Hořovice
END:VEVENT
END:VCALENDAR