BEGIN:VCALENDAR
VERSION:2.0
CALSCALE:GREGORIAN
PRODID:-//MyApp//Calendar 1.0//EN
BEGIN:VEVENT
METHOD:PUBLISH
UID:62838@regionalniportaly.cz
DTSTAMP:20260422T140120Z
DTSTART;VALUE=DATE:20260307
DTEND;VALUE=DATE:20260308
SUMMARY:10. ples města Hořovice
DESCRIPTION:🎉 Srdečně vás zveme na ples 🎉Čeká vás pestrý program\, bohatá tombola a losování hlavních cen.\n🎶 K tanci a poslechu zahraje hudební skupina Handa Banda⭐ Hlavní hosté večera: Šárka Vaňková a Petr Vondráček🎤 Večerem provází Jan Bartoška\n💃🕺 Přijďte si užít nezapomenutelný večer plný zábavy\, hudby a skvělé atmosféry!\n🎟 Vstupné: 250 Kč🎫 Předprodej vstupenek:\nInformační centrum Hořoviceonline na GoOut.netTěšíme se na vás!
LOCATION:Hořovice
END:VEVENT
END:VCALENDAR