BEGIN:VCALENDAR
VERSION:2.0
CALSCALE:GREGORIAN
PRODID:-//MyApp//Calendar 1.0//EN
BEGIN:VEVENT
METHOD:PUBLISH
UID:62841@regionalniportaly.cz
DTSTAMP:20260422T154833Z
DTSTART;VALUE=DATE:20260325
DTEND;VALUE=DATE:20260326
SUMMARY:Karel Svoboda - Ještě světu šanci dej
DESCRIPTION:Představujeme nový hudební projekt: Ještě světu šanci dej\nPavlína Ďuriačová a Lukáš Randák společně s Tanečním orchestrem Black Tower přinášejí nový hudební projekt\, který vzdává hold hitům Karla Svobody. Připravte se na nezapomenutelný hudební zážitek!\n Co vás čeká?\n Exkluzivní hosté\n Perfektní zvuk\n Živá hudba\n Působivá videoprojekce\n Originální aranže\n 12členný orchestr\nTaneční orchestr Black Tower\, známý např. z projektu **Můj vzor\, Božský Karel**\, vás tentokrát doprovodí na jedinečnou hudební cestu za podpory\nVenduly Svobodové Pizingerové.\nVideoklip - https://youtu.be/_tO3GzWaRv8\nPodívejte se na ochutnávku našeho koncertu a nechte se nalákat na to\, co vás čeká!Sledujte naši stránku pro více informací a buďte první\, kdo se dozví o termínech a místech konání koncertů. Zažijte hudební večer plný emocí a skvělých melodií!
LOCATION:Hořovice
END:VEVENT
END:VCALENDAR