BEGIN:VCALENDAR
VERSION:2.0
CALSCALE:GREGORIAN
PRODID:-//MyApp//Calendar 1.0//EN
BEGIN:VEVENT
METHOD:PUBLISH
UID:62842@regionalniportaly.cz
DTSTAMP:20260422T121614Z
DTSTART;VALUE=DATE:20260401
DTEND;VALUE=DATE:20260402
SUMMARY:Vlasta Redl s kapelou
DESCRIPTION:Velký koncert velkého muzikanta!\n \nVlasta Redl – geniální samorost-všeuměl\, skladatel\, textař\, zpěvák\, spisovatel\, studiový hráč\, aranžér\, hudební režisér a producent\, který se podílel na 60 albech – vyráží oslavit svou dlouholetou koncertní činnost na prkna\, která znamenají svět.\n \nSe svou kapelou plnou skvělých muzikantů zahraje Vlasta celý průřez svou bohatou tvorbou\, nebudou samozřejmě chybět nejvýznamnější skladby z období raného AG Fleku\, ale i největší hity tohoto výjimečného muzikanta.
LOCATION:Hořovice
END:VEVENT
END:VCALENDAR