BEGIN:VCALENDAR
VERSION:2.0
CALSCALE:GREGORIAN
PRODID:-//MyApp//Calendar 1.0//EN
BEGIN:VEVENT
METHOD:PUBLISH
UID:62843@regionalniportaly.cz
DTSTAMP:20260422T121535Z
DTSTART;VALUE=DATE:20260402
DTEND;VALUE=DATE:20260403
SUMMARY:Brutus - tradičně v Hořovicích
DESCRIPTION:Kapela Brutus zahraje📅 2. dubna ve Společenském domě v Hořovicích\n \nPřijďte si užít večer s poctivým rockem a známými hity.\nTěšíme se na vás!\n 
LOCATION:Hořovice
END:VEVENT
END:VCALENDAR