BEGIN:VCALENDAR
VERSION:2.0
CALSCALE:GREGORIAN
PRODID:-//MyApp//Calendar 1.0//EN
BEGIN:VEVENT
METHOD:PUBLISH
UID:62844@regionalniportaly.cz
DTSTAMP:20260422T121607Z
DTSTART;VALUE=DATE:20260411
DTEND;VALUE=DATE:20260412
SUMMARY:Wohnout Bohémských 30
DESCRIPTION:Open 19:00hStart 20:00h" Vidíme se na srazu\, pokud patříš do svazu."Vstupenky: k prodeji v MKC Hořovice pouze v hotovosti nebo ZDE
LOCATION:Hořovice
END:VEVENT
END:VCALENDAR