BEGIN:VCALENDAR
VERSION:2.0
CALSCALE:GREGORIAN
PRODID:-//MyApp//Calendar 1.0//EN
BEGIN:VEVENT
METHOD:PUBLISH
UID:62852@regionalniportaly.cz
DTSTAMP:20260422T121656Z
DTSTART;VALUE=DATE:20261111
DTEND;VALUE=DATE:20261112
SUMMARY:Partička na vzduchu
DESCRIPTION:Varování Ministerstva zdravotnictví: Partička na vzduchu Vám může nenávratně zlepšit náladu.\nTo je improvizační show Partička s Michalem Suchánkem\, Richardem Genzerem\, Michalem Novotným\, Jakubem Kohákem a Luďkem Staňkem.\nPořadatel si vyhrazuje právo adekvátní alternace.\nVstupné již od 599\,- Kč
LOCATION:Hořovice
END:VEVENT
END:VCALENDAR