BEGIN:VCALENDAR
VERSION:2.0
CALSCALE:GREGORIAN
PRODID:-//MyApp//Calendar 1.0//EN
BEGIN:VEVENT
METHOD:PUBLISH
UID:62853@regionalniportaly.cz
DTSTAMP:20260422T121705Z
DTSTART;VALUE=DATE:20261209
DTEND;VALUE=DATE:20261210
SUMMARY:Chlapi radši lžou
DESCRIPTION:Komedie plná extrémních situací\, nečekaných dějových zvratů i zajímavých rozuzlení.\nHrají : Saša Rašilov\, Patrik Děrgel\, Ivan Lupták\, Markéta Děrgelová\, Lída Rašilovová\, Zuzana Vejvodová / Týna Průchová\, Katrin Weitzenbauerová\nVstupné 490\,- až 590\,- Kč
LOCATION:Hořovice
END:VEVENT
END:VCALENDAR